Package: graphite Version: 1.55.0 Command: chmod a+r graphite -R && F:\biocbuild\bbs-3.22-bioc\R\bin\R.exe CMD build --keep-empty-dirs --no-resave-data graphite StartedAt: 2025-08-14 20:38:33 -0400 (Thu, 14 Aug 2025) EndedAt: 2025-08-14 20:40:05 -0400 (Thu, 14 Aug 2025) EllapsedTime: 91.8 seconds RetCode: 0 Status: OK PackageFile: graphite_1.55.0.tar.gz PackageFileSize: 764.8 KiB