Package: graph Version: 1.87.0 Command: /home/biocbuild/R/R/bin/R CMD INSTALL graph StartedAt: 2025-10-16 21:23:02 -0000 (Thu, 16 Oct 2025) EndedAt: 2025-10-16 21:23:20 -0000 (Thu, 16 Oct 2025) EllapsedTime: 18.4 seconds RetCode: 0 Status: OK