Package: graph Version: 1.87.0 Command: /home/biocbuild/R/R/bin/R CMD check --install=check:graph.install-out.txt --library=/home/biocbuild/R/R/site-library --no-vignettes --timings graph_1.87.0.tar.gz StartedAt: 2025-10-17 09:48:16 -0000 (Fri, 17 Oct 2025) EndedAt: 2025-10-17 09:49:22 -0000 (Fri, 17 Oct 2025) EllapsedTime: 66.1 seconds RetCode: 0 Status: OK CheckDir: graph.Rcheck Warnings: 0