Package: graph Version: 1.87.0 Command: /home/biocbuild/R/R/bin/R CMD build --keep-empty-dirs --no-resave-data graph StartedAt: 2025-10-17 01:43:53 -0000 (Fri, 17 Oct 2025) EndedAt: 2025-10-17 01:44:35 -0000 (Fri, 17 Oct 2025) EllapsedTime: 42.0 seconds RetCode: 0 Status: OK PackageFile: graph_1.87.0.tar.gz PackageFileSize: 1.514 MiB