Package: graph Version: 1.87.0 Command: /home/biocbuild/bbs-3.22-bioc/R/bin/R CMD INSTALL graph StartedAt: 2025-10-19 15:12:45 -0400 (Sun, 19 Oct 2025) EndedAt: 2025-10-19 15:12:57 -0400 (Sun, 19 Oct 2025) EllapsedTime: 11.5 seconds RetCode: 0 Status: OK