Package: graph Version: 1.87.0 Command: /home/biocbuild/bbs-3.22-bioc/R/bin/R CMD check --install=check:graph.install-out.txt --library=/home/biocbuild/bbs-3.22-bioc/R/site-library --timings graph_1.87.0.tar.gz StartedAt: 2025-10-20 00:34:22 -0400 (Mon, 20 Oct 2025) EndedAt: 2025-10-20 00:35:28 -0400 (Mon, 20 Oct 2025) EllapsedTime: 66.0 seconds RetCode: 0 Status: OK CheckDir: graph.Rcheck Warnings: 0