Package: graph Version: 1.87.0 Command: /home/biocbuild/bbs-3.22-bioc/R/bin/R CMD build --keep-empty-dirs --no-resave-data --md5 graph StartedAt: 2025-10-19 17:59:09 -0400 (Sun, 19 Oct 2025) EndedAt: 2025-10-19 17:59:39 -0400 (Sun, 19 Oct 2025) EllapsedTime: 30.0 seconds RetCode: 0 Status: OK PackageFile: graph_1.87.0.tar.gz PackageFileSize: 1.435 MiB