Package: graph Version: 1.87.0 Command: /Library/Frameworks/R.framework/Resources/bin/R CMD INSTALL graph StartedAt: 2025-10-19 15:15:30 -0400 (Sun, 19 Oct 2025) EndedAt: 2025-10-19 15:15:45 -0400 (Sun, 19 Oct 2025) EllapsedTime: 15.0 seconds RetCode: 0 Status: OK