Package: graph Version: 1.87.0 Command: /Library/Frameworks/R.framework/Resources/bin/R CMD check --install=check:graph.install-out.txt --library=/Library/Frameworks/R.framework/Resources/library --no-vignettes --timings graph_1.87.0.tar.gz StartedAt: 2025-10-19 22:52:47 -0400 (Sun, 19 Oct 2025) EndedAt: 2025-10-19 22:53:59 -0400 (Sun, 19 Oct 2025) EllapsedTime: 72.1 seconds RetCode: 0 Status: OK CheckDir: graph.Rcheck Warnings: 0