Package: graph Version: 1.87.0 Command: /Library/Frameworks/R.framework/Resources/bin/R CMD check --install=check:graph.install-out.txt --library=/Library/Frameworks/R.framework/Resources/library --no-vignettes --timings graph_1.87.0.tar.gz StartedAt: 2025-10-19 20:02:25 -0400 (Sun, 19 Oct 2025) EndedAt: 2025-10-19 20:02:48 -0400 (Sun, 19 Oct 2025) EllapsedTime: 22.4 seconds RetCode: 0 Status: OK CheckDir: graph.Rcheck Warnings: 0