Package: gpuMagic Version: 1.26.0 Command: /home/biocbuild/bbs-3.22-bioc/R/bin/R CMD INSTALL gpuMagic StartedAt: 2025-11-13 15:12:16 -0500 (Thu, 13 Nov 2025) EndedAt: 2025-11-13 15:12:18 -0500 (Thu, 13 Nov 2025) EllapsedTime: 2.0 seconds RetCode: 1 Status: ERROR