Package: gpuMagic Version: 1.26.0 Command: /Library/Frameworks/R.framework/Resources/bin/R CMD INSTALL gpuMagic StartedAt: 2025-11-10 15:07:36 -0500 (Mon, 10 Nov 2025) EndedAt: 2025-11-10 15:07:44 -0500 (Mon, 10 Nov 2025) EllapsedTime: 8.1 seconds RetCode: 0 Status: OK