Package: gpuMagic Version: 1.26.0 Command: /Library/Frameworks/R.framework/Resources/bin/R CMD build --keep-empty-dirs --no-resave-data gpuMagic StartedAt: 2025-11-10 16:36:37 -0500 (Mon, 10 Nov 2025) EndedAt: 2025-11-10 16:36:46 -0500 (Mon, 10 Nov 2025) EllapsedTime: 9.1 seconds RetCode: 1 Status: ERROR PackageFile: None PackageFileSize: NA