Package: gpuMagic Version: 1.26.0 Maintainer: Jiefei Wang MaintainerEmail: szwjf08 at gmail.com git_url: https://git.bioconductor.org/packages/gpuMagic git_branch: RELEASE_3_22 git_last_commit: be1109c git_last_commit_date: 2025-10-29 10:51:57 -0500 (Wed, 29 Oct 2025)