Package: goseq Version: 1.61.1 Command: /Library/Frameworks/R.framework/Resources/bin/R CMD check --install=check:goseq.install-out.txt --library=/Library/Frameworks/R.framework/Resources/library --no-vignettes --timings goseq_1.61.1.tar.gz StartedAt: 2025-10-02 20:11:30 -0400 (Thu, 02 Oct 2025) EndedAt: 2025-10-02 20:13:37 -0400 (Thu, 02 Oct 2025) EllapsedTime: 127.4 seconds RetCode: 0 Status: OK CheckDir: goseq.Rcheck Warnings: 0