Package: goseq Version: 1.61.1 Command: /Library/Frameworks/R.framework/Resources/bin/R CMD build --keep-empty-dirs --no-resave-data goseq StartedAt: 2025-09-30 16:35:53 -0400 (Tue, 30 Sep 2025) EndedAt: 2025-09-30 16:37:33 -0400 (Tue, 30 Sep 2025) EllapsedTime: 100.1 seconds RetCode: 0 Status: OK PackageFile: goseq_1.61.1.tar.gz PackageFileSize: 1.831 MiB