Package: goatea Version: 1.0.0 Command: /Library/Frameworks/R.framework/Resources/bin/R CMD INSTALL goatea StartedAt: 2025-11-17 18:29:30 -0500 (Mon, 17 Nov 2025) EndedAt: 2025-11-17 18:30:34 -0500 (Mon, 17 Nov 2025) EllapsedTime: 63.9 seconds RetCode: 0 Status: OK