Package: goatea Version: 1.0.0 Command: /Library/Frameworks/R.framework/Resources/bin/R CMD check --install=check:goatea.install-out.txt --library=/Library/Frameworks/R.framework/Resources/library --no-vignettes --timings goatea_1.0.0.tar.gz StartedAt: 2025-11-18 08:24:30 -0500 (Tue, 18 Nov 2025) EndedAt: 2025-11-18 08:31:04 -0500 (Tue, 18 Nov 2025) EllapsedTime: 394.2 seconds RetCode: 0 Status: OK CheckDir: goatea.Rcheck Warnings: 0