Package: goatea Version: 1.0.0 Command: rm -rf goatea.buildbin-libdir && mkdir goatea.buildbin-libdir && /Users/biocbuild/BBS/utils/build-universal.sh goatea_1.0.0.tar.gz /Library/Frameworks/R.framework/Resources/bin/R goatea.buildbin-libdir StartedAt: 2025-11-18 17:46:31 -0500 (Tue, 18 Nov 2025) EndedAt: 2025-11-18 17:47:37 -0500 (Tue, 18 Nov 2025) EllapsedTime: 66.8 seconds RetCode: 0 Status: OK PackageFile: goatea_1.0.0.tgz PackageFileSize: 2.005 MiB