Package: goSorensen Version: 1.11.0 Command: rm -rf goSorensen.buildbin-libdir && mkdir goSorensen.buildbin-libdir && F:\biocbuild\bbs-3.22-bioc\R\bin\R.exe CMD INSTALL --build --library=goSorensen.buildbin-libdir goSorensen_1.11.0.tar.gz StartedAt: 2025-08-15 10:24:58 -0400 (Fri, 15 Aug 2025) EndedAt: 2025-08-15 10:25:40 -0400 (Fri, 15 Aug 2025) EllapsedTime: 42.3 seconds RetCode: 0 Status: OK PackageFile: goSorensen_1.11.0.zip PackageFileSize: 1.048 MiB