Package: goSorensen Version: 1.12.0 Command: /Library/Frameworks/R.framework/Resources/bin/R CMD check --install=check:goSorensen.install-out.txt --library=/Library/Frameworks/R.framework/Resources/library --no-vignettes --timings goSorensen_1.12.0.tar.gz StartedAt: 2025-11-10 20:22:21 -0500 (Mon, 10 Nov 2025) EndedAt: 2025-11-10 20:25:10 -0500 (Mon, 10 Nov 2025) EllapsedTime: 169.1 seconds RetCode: 0 Status: OK CheckDir: goSorensen.Rcheck Warnings: 0