Package: goSorensen Version: 1.12.0 Command: /Library/Frameworks/R.framework/Resources/bin/R CMD build --keep-empty-dirs --no-resave-data goSorensen StartedAt: 2025-11-10 16:35:49 -0500 (Mon, 10 Nov 2025) EndedAt: 2025-11-10 16:37:18 -0500 (Mon, 10 Nov 2025) EllapsedTime: 88.9 seconds RetCode: 0 Status: OK PackageFile: goSorensen_1.12.0.tar.gz PackageFileSize: 932.4 KiB