Package: gmapR Version: 1.52.0 Command: /Library/Frameworks/R.framework/Resources/bin/R CMD INSTALL gmapR StartedAt: 2025-11-17 18:03:59 -0500 (Mon, 17 Nov 2025) EndedAt: 2025-11-17 18:04:42 -0500 (Mon, 17 Nov 2025) EllapsedTime: 42.3 seconds RetCode: 1 Status: ERROR