Package: globaltest Version: 5.63.0 Command: /home/biocbuild/bbs-3.22-bioc/R/bin/R CMD INSTALL globaltest StartedAt: 2025-10-20 15:27:50 -0400 (Mon, 20 Oct 2025) EndedAt: 2025-10-20 15:28:12 -0400 (Mon, 20 Oct 2025) EllapsedTime: 22.7 seconds RetCode: 0 Status: OK