Package: globaltest Version: 5.63.0 Command: /Library/Frameworks/R.framework/Resources/bin/R CMD check --install=check:globaltest.install-out.txt --library=/Library/Frameworks/R.framework/Resources/library --no-vignettes --timings globaltest_5.63.0.tar.gz StartedAt: 2025-10-20 22:51:17 -0400 (Mon, 20 Oct 2025) EndedAt: 2025-10-20 22:54:18 -0400 (Mon, 20 Oct 2025) EllapsedTime: 180.7 seconds RetCode: 0 Status: OK CheckDir: globaltest.Rcheck Warnings: 0