Package: globaltest Version: 5.63.0 Command: /Library/Frameworks/R.framework/Resources/bin/R CMD INSTALL globaltest StartedAt: 2025-10-20 15:09:24 -0400 (Mon, 20 Oct 2025) EndedAt: 2025-10-20 15:09:33 -0400 (Mon, 20 Oct 2025) EllapsedTime: 9.0 seconds RetCode: 0 Status: OK