Package: glmGamPoi Version: 1.21.0 Command: F:\biocbuild\bbs-3.22-bioc\R\bin\R.exe CMD check --no-multiarch --install=check:glmGamPoi.install-out.txt --library=F:\biocbuild\bbs-3.22-bioc\R\library --no-vignettes --timings glmGamPoi_1.21.0.tar.gz StartedAt: 2025-08-15 03:47:19 -0400 (Fri, 15 Aug 2025) EndedAt: 2025-08-15 03:52:17 -0400 (Fri, 15 Aug 2025) EllapsedTime: 298.0 seconds RetCode: 0 Status: WARNINGS CheckDir: glmGamPoi.Rcheck Warnings: 1