Package: ginmappeR Version: 1.5.0 Command: /home/biocbuild/R/R/bin/R CMD INSTALL ginmappeR StartedAt: 2025-10-23 20:54:11 -0000 (Thu, 23 Oct 2025) EndedAt: 2025-10-23 20:54:32 -0000 (Thu, 23 Oct 2025) EllapsedTime: 20.6 seconds RetCode: 0 Status: OK