Package: ginmappeR Version: 1.5.0 Command: /home/biocbuild/R/R/bin/R CMD build --keep-empty-dirs --no-resave-data ginmappeR StartedAt: 2025-10-21 00:07:59 -0000 (Tue, 21 Oct 2025) EndedAt: 2025-10-21 00:12:51 -0000 (Tue, 21 Oct 2025) EllapsedTime: 292.1 seconds RetCode: 0 Status: OK PackageFile: ginmappeR_1.5.0.tar.gz PackageFileSize: 696.9 KiB