Package: ginmappeR Version: 1.5.0 Command: chmod a+r ginmappeR -R && F:\biocbuild\bbs-3.22-bioc\R\bin\R.exe CMD build --keep-empty-dirs --no-resave-data ginmappeR StartedAt: 2025-08-14 20:32:46 -0400 (Thu, 14 Aug 2025) EndedAt: 2025-08-14 20:36:26 -0400 (Thu, 14 Aug 2025) EllapsedTime: 220.3 seconds RetCode: 0 Status: OK PackageFile: ginmappeR_1.5.0.tar.gz PackageFileSize: 674.2 KiB