Package: ginmappeR Version: 1.5.0 Command: rm -rf ginmappeR.buildbin-libdir && mkdir ginmappeR.buildbin-libdir && F:\biocbuild\bbs-3.22-bioc\R\bin\R.exe CMD INSTALL --build --library=ginmappeR.buildbin-libdir ginmappeR_1.5.0.tar.gz StartedAt: 2025-08-15 10:23:46 -0400 (Fri, 15 Aug 2025) EndedAt: 2025-08-15 10:24:45 -0400 (Fri, 15 Aug 2025) EllapsedTime: 59.0 seconds RetCode: 0 Status: OK PackageFile: ginmappeR_1.5.0.zip PackageFileSize: 679.7 KiB