Package: ginmappeR Version: 1.5.0 Command: /home/biocbuild/bbs-3.22-bioc/R/bin/R CMD check --install=check:ginmappeR.install-out.txt --library=/home/biocbuild/bbs-3.22-bioc/R/site-library --timings ginmappeR_1.5.0.tar.gz StartedAt: 2025-10-24 00:04:30 -0400 (Fri, 24 Oct 2025) EndedAt: 2025-10-24 00:11:58 -0400 (Fri, 24 Oct 2025) EllapsedTime: 447.5 seconds RetCode: 0 Status: OK CheckDir: ginmappeR.Rcheck Warnings: 0