Package: ginmappeR Version: 1.5.0 Command: /home/biocbuild/bbs-3.22-bioc/R/bin/R CMD build --keep-empty-dirs --no-resave-data --md5 ginmappeR StartedAt: 2025-10-23 17:56:39 -0400 (Thu, 23 Oct 2025) EndedAt: 2025-10-23 17:58:19 -0400 (Thu, 23 Oct 2025) EllapsedTime: 100.1 seconds RetCode: 0 Status: OK PackageFile: ginmappeR_1.5.0.tar.gz PackageFileSize: 676.1 KiB