Package: ginmappeR Version: 1.5.0 Command: /Library/Frameworks/R.framework/Resources/bin/R CMD check --install=check:ginmappeR.install-out.txt --library=/Library/Frameworks/R.framework/Resources/library --no-vignettes --timings ginmappeR_1.5.0.tar.gz StartedAt: 2025-10-21 20:02:23 -0400 (Tue, 21 Oct 2025) EndedAt: 2025-10-21 20:08:13 -0400 (Tue, 21 Oct 2025) EllapsedTime: 350.2 seconds RetCode: 0 Status: OK CheckDir: ginmappeR.Rcheck Warnings: 0