Package: ggspavis Version: 1.15.9 Command: /home/biocbuild/R/R/bin/R CMD INSTALL ggspavis StartedAt: 2025-10-20 20:37:59 -0000 (Mon, 20 Oct 2025) EndedAt: 2025-10-20 20:38:35 -0000 (Mon, 20 Oct 2025) EllapsedTime: 36.1 seconds RetCode: 0 Status: OK