Package: ggspavis Version: 1.15.7 Command: /home/biocbuild/R/R/bin/R CMD check --install=check:ggspavis.install-out.txt --library=/home/biocbuild/R/R/site-library --no-vignettes --timings ggspavis_1.15.7.tar.gz StartedAt: 2025-10-07 08:17:02 -0000 (Tue, 07 Oct 2025) EndedAt: 2025-10-07 08:22:08 -0000 (Tue, 07 Oct 2025) EllapsedTime: 306.3 seconds RetCode: 0 Status: OK CheckDir: ggspavis.Rcheck Warnings: 0