Package: ggspavis Version: 1.15.9 Command: /home/biocbuild/R/R/bin/R CMD build --keep-empty-dirs --no-resave-data ggspavis StartedAt: 2025-10-21 00:06:58 -0000 (Tue, 21 Oct 2025) EndedAt: 2025-10-21 00:09:26 -0000 (Tue, 21 Oct 2025) EllapsedTime: 148.1 seconds RetCode: 1 Status: ERROR PackageFile: None PackageFileSize: NA