Package: ggspavis Version: 1.15.9 Command: /home/biocbuild/bbs-3.22-bioc/R/bin/R CMD INSTALL ggspavis StartedAt: 2025-10-22 15:24:38 -0400 (Wed, 22 Oct 2025) EndedAt: 2025-10-22 15:25:05 -0400 (Wed, 22 Oct 2025) EllapsedTime: 27.0 seconds RetCode: 0 Status: OK