Package: ggspavis Version: 1.15.9 Command: /home/biocbuild/bbs-3.22-bioc/R/bin/R CMD check --install=check:ggspavis.install-out.txt --library=/home/biocbuild/bbs-3.22-bioc/R/site-library --timings ggspavis_1.15.9.tar.gz StartedAt: 2025-10-23 00:25:44 -0400 (Thu, 23 Oct 2025) EndedAt: 2025-10-23 00:32:25 -0400 (Thu, 23 Oct 2025) EllapsedTime: 400.4 seconds RetCode: 0 Status: OK CheckDir: ggspavis.Rcheck Warnings: 0