Package: ggspavis Version: 1.15.9 Command: /Library/Frameworks/R.framework/Resources/bin/R CMD INSTALL ggspavis StartedAt: 2025-10-23 15:26:32 -0400 (Thu, 23 Oct 2025) EndedAt: 2025-10-23 15:27:08 -0400 (Thu, 23 Oct 2025) EllapsedTime: 36.1 seconds RetCode: 0 Status: OK