Package: ggspavis Version: 1.15.9 Command: /Library/Frameworks/R.framework/Resources/bin/R CMD build --keep-empty-dirs --no-resave-data ggspavis StartedAt: 2025-10-23 17:08:19 -0400 (Thu, 23 Oct 2025) EndedAt: 2025-10-23 17:12:05 -0400 (Thu, 23 Oct 2025) EllapsedTime: 226.0 seconds RetCode: 0 Status: OK PackageFile: ggspavis_1.15.9.tar.gz PackageFileSize: 9.227 MiB