Package: ggmanh Version: 1.13.0 Command: rm -rf ggmanh.buildbin-libdir && mkdir ggmanh.buildbin-libdir && F:\biocbuild\bbs-3.22-bioc\R\bin\R.exe CMD INSTALL --build --library=ggmanh.buildbin-libdir ggmanh_1.13.0.tar.gz StartedAt: 2025-08-15 10:23:08 -0400 (Fri, 15 Aug 2025) EndedAt: 2025-08-15 10:23:32 -0400 (Fri, 15 Aug 2025) EllapsedTime: 24.2 seconds RetCode: 0 Status: OK PackageFile: ggmanh_1.13.0.zip PackageFileSize: 3.252 MiB