Package: ggmanh Version: 1.13.0 Command: /Library/Frameworks/R.framework/Resources/bin/R CMD INSTALL ggmanh StartedAt: 2025-10-21 15:31:17 -0400 (Tue, 21 Oct 2025) EndedAt: 2025-10-21 15:31:26 -0400 (Tue, 21 Oct 2025) EllapsedTime: 9.0 seconds RetCode: 0 Status: OK