Package: ggmanh Version: 1.13.0 Command: /Library/Frameworks/R.framework/Resources/bin/R CMD check --install=check:ggmanh.install-out.txt --library=/Library/Frameworks/R.framework/Resources/library --no-vignettes --timings ggmanh_1.13.0.tar.gz StartedAt: 2025-10-21 22:19:16 -0400 (Tue, 21 Oct 2025) EndedAt: 2025-10-21 22:20:18 -0400 (Tue, 21 Oct 2025) EllapsedTime: 61.6 seconds RetCode: 0 Status: OK CheckDir: ggmanh.Rcheck Warnings: 0