Package: ggmanh Version: 1.13.0 Command: rm -rf ggmanh.buildbin-libdir && mkdir ggmanh.buildbin-libdir && /Users/biocbuild/BBS/utils/build-universal.sh ggmanh_1.13.0.tar.gz /Library/Frameworks/R.framework/Resources/bin/R ggmanh.buildbin-libdir StartedAt: 2025-10-22 02:27:25 -0400 (Wed, 22 Oct 2025) EndedAt: 2025-10-22 02:27:35 -0400 (Wed, 22 Oct 2025) EllapsedTime: 10.4 seconds RetCode: 0 Status: OK PackageFile: ggmanh_1.13.0.tgz PackageFileSize: 4.518 MiB