Package: ggkegg Version: 1.7.2 Command: /home/biocbuild/R/R/bin/R CMD check --install=check:ggkegg.install-out.txt --library=/home/biocbuild/R/R/site-library --no-vignettes --timings ggkegg_1.7.2.tar.gz StartedAt: 2025-10-17 09:35:16 -0000 (Fri, 17 Oct 2025) EndedAt: 2025-10-17 09:39:14 -0000 (Fri, 17 Oct 2025) EllapsedTime: 238.1 seconds RetCode: 0 Status: OK CheckDir: ggkegg.Rcheck Warnings: 0