Package: ggkegg Version: 1.7.0 Command: rm -rf ggkegg.buildbin-libdir && mkdir ggkegg.buildbin-libdir && F:\biocbuild\bbs-3.22-bioc\R\bin\R.exe CMD INSTALL --build --library=ggkegg.buildbin-libdir ggkegg_1.7.0.tar.gz StartedAt: 2025-06-18 09:13:23 -0400 (Wed, 18 Jun 2025) EndedAt: 2025-06-18 09:14:07 -0400 (Wed, 18 Jun 2025) EllapsedTime: 44.0 seconds RetCode: 0 Status: OK PackageFile: ggkegg_1.7.0.zip PackageFileSize: 2.96 MiB