Package: ggkegg Version: 1.8.0 Command: /Library/Frameworks/R.framework/Resources/bin/R CMD check --install=check:ggkegg.install-out.txt --library=/Library/Frameworks/R.framework/Resources/library --no-vignettes --timings ggkegg_1.8.0.tar.gz StartedAt: 2025-10-31 20:04:36 -0400 (Fri, 31 Oct 2025) EndedAt: 2025-10-31 20:05:57 -0400 (Fri, 31 Oct 2025) EllapsedTime: 81.0 seconds RetCode: 0 Status: OK CheckDir: ggkegg.Rcheck Warnings: 0