Package: ggkegg Version: 1.8.0 Command: rm -rf ggkegg.buildbin-libdir && mkdir ggkegg.buildbin-libdir && /Users/biocbuild/BBS/utils/build-universal.sh ggkegg_1.8.0.tar.gz /Library/Frameworks/R.framework/Resources/bin/R ggkegg.buildbin-libdir StartedAt: 2025-10-31 23:08:52 -0400 (Fri, 31 Oct 2025) EndedAt: 2025-10-31 23:08:58 -0400 (Fri, 31 Oct 2025) EllapsedTime: 6.1 seconds RetCode: 0 Status: OK PackageFile: ggkegg_1.8.0.tgz PackageFileSize: 3.852 MiB