Package: ggcyto Version: 1.37.1 Command: /home/biocbuild/R/R/bin/R CMD INSTALL ggcyto StartedAt: 2025-10-23 20:56:49 -0000 (Thu, 23 Oct 2025) EndedAt: 2025-10-23 20:57:11 -0000 (Thu, 23 Oct 2025) EllapsedTime: 22.6 seconds RetCode: 0 Status: OK